BEGIN:VCALENDAR
VERSION:2.0
PRODID:-//Balai Pengukuran Kompetensi Pegawai - ECPv5.8.2//NONSGML v1.0//EN
CALSCALE:GREGORIAN
METHOD:PUBLISH
X-WR-CALNAME:Balai Pengukuran Kompetensi Pegawai
X-ORIGINAL-URL:https://balaipkp.jogjaprov.go.id
X-WR-CALDESC:Events for Balai Pengukuran Kompetensi Pegawai
BEGIN:VTIMEZONE
TZID:Asia/Krasnoyarsk
BEGIN:STANDARD
TZOFFSETFROM:+0700
TZOFFSETTO:+0700
TZNAME:+07
DTSTART:20230101T000000
END:STANDARD
END:VTIMEZONE
BEGIN:VEVENT
DTSTART;TZID=Asia/Krasnoyarsk:20230829T080000
DTEND;TZID=Asia/Krasnoyarsk:20230902T170000
DTSTAMP:20260424T160142
CREATED:20230829T010247Z
LAST-MODIFIED:20230829T010541Z
UID:2634-1693296000-1693674000@balaipkp.jogjaprov.go.id
SUMMARY:Penilaian Kompetensi Kabupaten Kulon Progo
DESCRIPTION:Penilaian Kompetensi dengan Assessment Center Metode Kompleks tanpa Menginap\, dalam rangka seleksi JPT Pratama Kabupaten Kulon Progo dilaksanakan di Ruang Sidoluhur Balai Pengukuran Kompetensi Pegawai di bagi dalam 2 angkatan yaitu 28-29 Agustus dan 30-31 Agustus dengan keseluruhan jumlah peserta 14 orang.
URL:https://balaipkp.jogjaprov.go.id/event/2634/
END:VEVENT
END:VCALENDAR