BEGIN:VCALENDAR
VERSION:2.0
PRODID:-//Balai Pengukuran Kompetensi Pegawai - ECPv5.8.2//NONSGML v1.0//EN
CALSCALE:GREGORIAN
METHOD:PUBLISH
X-WR-CALNAME:Balai Pengukuran Kompetensi Pegawai
X-ORIGINAL-URL:https://balaipkp.jogjaprov.go.id
X-WR-CALDESC:Events for Balai Pengukuran Kompetensi Pegawai
BEGIN:VTIMEZONE
TZID:Asia/Krasnoyarsk
BEGIN:STANDARD
TZOFFSETFROM:+0700
TZOFFSETTO:+0700
TZNAME:+07
DTSTART:20240101T000000
END:STANDARD
END:VTIMEZONE
BEGIN:VEVENT
DTSTART;TZID=Asia/Krasnoyarsk:20241105T080000
DTEND;TZID=Asia/Krasnoyarsk:20241130T170000
DTSTAMP:20260424T130421
CREATED:20241105T014600Z
LAST-MODIFIED:20241105T014600Z
UID:2919-1730793600-1732986000@balaipkp.jogjaprov.go.id
SUMMARY:Penilaian Kompetensi ASN Pemda DIY
DESCRIPTION:Balai Pengukuran Kompetensi Pegawai melaksanakan kembali kegiatan penilaian kompetensi dalam rangka pemetaan potensi dan kompetensi Aparatur Sipil Negara (ASN) di lingkungan Pemerintah Daerah Daerah Istimewa Yogyakarta. Kegiatan tersebut dilaksanakan di ruang Sidoluhur Balai PKP BKD DIY tanggal 5 November 2024 diikuti 12 peserta dari beberapa OPD.
URL:https://balaipkp.jogjaprov.go.id/event/penilaian-kompetensi-asn-pemda-diy/
END:VEVENT
END:VCALENDAR