BEGIN:VCALENDAR
VERSION:2.0
PRODID:-//Balai Pengukuran Kompetensi Pegawai - ECPv5.8.2//NONSGML v1.0//EN
CALSCALE:GREGORIAN
METHOD:PUBLISH
X-WR-CALNAME:Balai Pengukuran Kompetensi Pegawai
X-ORIGINAL-URL:https://balaipkp.jogjaprov.go.id
X-WR-CALDESC:Events for Balai Pengukuran Kompetensi Pegawai
BEGIN:VTIMEZONE
TZID:Asia/Krasnoyarsk
BEGIN:STANDARD
TZOFFSETFROM:+0700
TZOFFSETTO:+0700
TZNAME:+07
DTSTART:20230101T000000
END:STANDARD
END:VTIMEZONE
BEGIN:VEVENT
DTSTART;TZID=Asia/Krasnoyarsk:20230522T080000
DTEND;TZID=Asia/Krasnoyarsk:20230531T170000
DTSTAMP:20260422T233227
CREATED:20230522T042520Z
LAST-MODIFIED:20230522T042520Z
UID:2556-1684742400-1685552400@balaipkp.jogjaprov.go.id
SUMMARY:Penilaian Kompetensi Pemerintah Kabupaten Gunungkidul
DESCRIPTION:Balai Pengukuran Kompetensi Pegawai – BKD DIY melaksanakan kerja sama kembali antara Pemerintah Kabupaten Gunungkidul dengan Pemerintah Daerah DIY. Kegiatan Penilaian Kompetensi dalam rangka pengisian dan pemetaan JPT Pratama Kabupaten Gunungkidul dengan jumlah peserta 28 orang dilaksanakan pada tanggal 22 – 24 Mei 2023 di ruang Rapat Sidoluhur Balai Pengukuran Kompetensi Pegawai.
URL:https://balaipkp.jogjaprov.go.id/event/penilaian-kompetensi-pemerintah-kabupaten-gunungkidul/
END:VEVENT
END:VCALENDAR