BEGIN:VCALENDAR
VERSION:2.0
PRODID:-//Balai Pengukuran Kompetensi Pegawai - ECPv5.8.2//NONSGML v1.0//EN
CALSCALE:GREGORIAN
METHOD:PUBLISH
X-WR-CALNAME:Balai Pengukuran Kompetensi Pegawai
X-ORIGINAL-URL:https://balaipkp.jogjaprov.go.id
X-WR-CALDESC:Events for Balai Pengukuran Kompetensi Pegawai
BEGIN:VTIMEZONE
TZID:Asia/Krasnoyarsk
BEGIN:STANDARD
TZOFFSETFROM:+0700
TZOFFSETTO:+0700
TZNAME:+07
DTSTART:20250101T000000
END:STANDARD
END:VTIMEZONE
BEGIN:VEVENT
DTSTART;TZID=Asia/Krasnoyarsk:20250528T080000
DTEND;TZID=Asia/Krasnoyarsk:20250614T170000
DTSTAMP:20260422T203056
CREATED:20250528T021812Z
LAST-MODIFIED:20250528T021812Z
UID:2998-1748419200-1749920400@balaipkp.jogjaprov.go.id
SUMMARY:Penilaian Potensi dan Kompetensi BUMD Pemerintah Kabupaten Sleman
DESCRIPTION:Balai Pengukuran Kompetensi melaksanakan kerja sama Penilaian Potensi dan Kompetensi dengan Assessment Center Metode Sedang  dengan Pemerintah Kabupaten Sleman yang dilaksanakan di ruang Sidoluhur Balai PKP\, 28 Mei 2025 yang diikuti oleh 12 peserta. kegiatan dalam rangka Seleksi Calon Komisaris\, Calon Direksi dan Calon Dewan Pengawas pada Badan Usaha Milik Daerah di Lingkungan Pemerintah Kabupaten Sleman Tahun 2025.
URL:https://balaipkp.jogjaprov.go.id/event/penilaian-potensi-dan-kompetensi-bumd-pemerintah-kabupaten-sleman/
END:VEVENT
END:VCALENDAR