BEGIN:VCALENDAR
VERSION:2.0
PRODID:-//Balai Pengukuran Kompetensi Pegawai - ECPv5.8.2//NONSGML v1.0//EN
CALSCALE:GREGORIAN
METHOD:PUBLISH
X-WR-CALNAME:Balai Pengukuran Kompetensi Pegawai
X-ORIGINAL-URL:https://balaipkp.jogjaprov.go.id
X-WR-CALDESC:Events for Balai Pengukuran Kompetensi Pegawai
BEGIN:VTIMEZONE
TZID:Asia/Krasnoyarsk
BEGIN:STANDARD
TZOFFSETFROM:+0700
TZOFFSETTO:+0700
TZNAME:+07
DTSTART:20250101T000000
END:STANDARD
END:VTIMEZONE
BEGIN:VEVENT
DTSTART;TZID=Asia/Krasnoyarsk:20250422T080000
DTEND;TZID=Asia/Krasnoyarsk:20250503T170000
DTSTAMP:20260424T130724
CREATED:20250422T005536Z
LAST-MODIFIED:20250422T010021Z
UID:2983-1745308800-1746291600@balaipkp.jogjaprov.go.id
SUMMARY:Penilaian Potensi dan Kompetensi Pemda DIY
DESCRIPTION:Dalam rangka pemetaan potensi dan kompetensi Aparatur Sipil Negara (ASN) di lingkungan Pemerintah Daerah Daerah Istimewa Yogyakarta Angkatan II Tahun 2025\, Balai Pengukuran Kompetensi Pegawai melaksanakan kembali penilaian potensi dan kompetensi bagi 12 peserta dari eselon III. Kegiatan penkom dilaksanakan tanggal 22 April 2025 di ruang Sidoluhur Balai PKP.
URL:https://balaipkp.jogjaprov.go.id/event/penilaian-potensi-dan-kompetensi-pemda-diy/
END:VEVENT
END:VCALENDAR